BEGIN:VCALENDAR
VERSION:2.0
PRODID:-//Sabre//Sabre VObject 4.5.8//EN
CALSCALE:GREGORIAN
BEGIN:VEVENT
UID:sabre-vobject-2b7764be-2408-4884-ad0e-0d36ab4217b7
DTSTAMP:20260421T081227Z
SUMMARY:Theater
DESCRIPTION:https://app.weichering.de/theater_id160
DTSTART;TZID=Europe/Berlin:20201023T000000
DTEND;TZID=Europe/Berlin:20201025T000000
LOCATION:Schweigerhalle Weichering\, Teichstrasse\, 86706 Weichering
END:VEVENT
END:VCALENDAR
